BEGIN:VCALENDAR
VERSION:2.0
PRODID:-//Ortenauer Narrenbund 1981 e.V. - ECPv6.15.20//NONSGML v1.0//EN
CALSCALE:GREGORIAN
METHOD:PUBLISH
X-ORIGINAL-URL:https://ortenauer-narrenbund.de
X-WR-CALDESC:Veranstaltungen für Ortenauer Narrenbund 1981 e.V.
REFRESH-INTERVAL;VALUE=DURATION:PT1H
X-Robots-Tag:noindex
X-PUBLISHED-TTL:PT1H
BEGIN:VTIMEZONE
TZID:Europe/Berlin
BEGIN:DAYLIGHT
TZOFFSETFROM:+0100
TZOFFSETTO:+0200
TZNAME:CEST
DTSTART:20260329T010000
END:DAYLIGHT
BEGIN:STANDARD
TZOFFSETFROM:+0200
TZOFFSETTO:+0100
TZNAME:CET
DTSTART:20261025T010000
END:STANDARD
BEGIN:DAYLIGHT
TZOFFSETFROM:+0100
TZOFFSETTO:+0200
TZNAME:CEST
DTSTART:20270328T010000
END:DAYLIGHT
BEGIN:STANDARD
TZOFFSETFROM:+0200
TZOFFSETTO:+0100
TZNAME:CET
DTSTART:20271031T010000
END:STANDARD
BEGIN:DAYLIGHT
TZOFFSETFROM:+0100
TZOFFSETTO:+0200
TZNAME:CEST
DTSTART:20280326T010000
END:DAYLIGHT
BEGIN:STANDARD
TZOFFSETFROM:+0200
TZOFFSETTO:+0100
TZNAME:CET
DTSTART:20281029T010000
END:STANDARD
BEGIN:DAYLIGHT
TZOFFSETFROM:+0100
TZOFFSETTO:+0200
TZNAME:CEST
DTSTART:20290325T010000
END:DAYLIGHT
BEGIN:STANDARD
TZOFFSETFROM:+0200
TZOFFSETTO:+0100
TZNAME:CET
DTSTART:20291028T010000
END:STANDARD
END:VTIMEZONE
BEGIN:VEVENT
DTSTART;VALUE=DATE:20270116
DTEND;VALUE=DATE:20270117
DTSTAMP:20260422T102916
CREATED:20240408T211543Z
LAST-MODIFIED:20260121T225641Z
UID:1091-1800057600-1800143999@ortenauer-narrenbund.de
SUMMARY:55 Jahre Narrenzunft Krutblättsche Goldscheuer e.V.
DESCRIPTION:
URL:https://ortenauer-narrenbund.de/termin/55-jahre-narrenzunft-krutblaettsche-goldscheuer-e-v/
LOCATION:Goldscheuer
END:VEVENT
BEGIN:VEVENT
DTSTART;VALUE=DATE:20270124
DTEND;VALUE=DATE:20270125
DTSTAMP:20260422T102916
CREATED:20230511T211825Z
LAST-MODIFIED:20230511T211825Z
UID:1062-1800748800-1800835199@ortenauer-narrenbund.de
SUMMARY:Großes Narrentreffen - Umzug 44 Jahre NZ Schärmies Mietersheim
DESCRIPTION:
URL:https://ortenauer-narrenbund.de/termin/grosses-narrentreffen-umzug-44-jahre-nz-schaermies-mietersheim/
LOCATION:Lahr-Mietersheim
END:VEVENT
BEGIN:VEVENT
DTSTART;VALUE=DATE:20270129
DTEND;VALUE=DATE:20270201
DTSTAMP:20260422T102916
CREATED:20240426T205112Z
LAST-MODIFIED:20240426T205311Z
UID:1104-1801180800-1801439999@ortenauer-narrenbund.de
SUMMARY:55-jähriges Jubiläum Narrenzunft Knerbli Berghaupten e.V.
DESCRIPTION:
URL:https://ortenauer-narrenbund.de/termin/55-jaehriges-jubilaeum-narrenzunft-knerbli-berghaupten-e-v/
LOCATION:Berghaupten\, Berghaupten\, 77791
ORGANIZER;CN="Narrenzunft Knerbli Berghaupten e.V.":MAILTO:ozm@narrenzunft.de
END:VEVENT
BEGIN:VEVENT
DTSTART;TZID=Europe/Berlin:20270206T180000
DTEND;TZID=Europe/Berlin:20270206T233000
DTSTAMP:20260422T102916
CREATED:20250217T211911Z
LAST-MODIFIED:20250217T212227Z
UID:1153-1801936800-1801956600@ortenauer-narrenbund.de
SUMMARY:55 Jahre Narro-Gruppe e.V. Oberkirch
DESCRIPTION:55 Jahre Narro-Gruppe e.V. Oberkirch\nDAS JUBILÄUM
URL:https://ortenauer-narrenbund.de/termin/55-jahre-narro-gruppe-e-v-oberkirch/
LOCATION:Oberkirch
END:VEVENT
BEGIN:VEVENT
DTSTART;VALUE=DATE:20280205
DTEND;VALUE=DATE:20280207
DTSTAMP:20260422T102916
CREATED:20251118T234050Z
LAST-MODIFIED:20251118T234339Z
UID:1189-1833321600-1833494399@ortenauer-narrenbund.de
SUMMARY:22-jähriges Jubiläum NZ Hopfedrescher Müllen e.V.
DESCRIPTION:
URL:https://ortenauer-narrenbund.de/termin/22-jaehriges-jubilaeum-nz-hopfedrescher-muellen-e-v/
END:VEVENT
END:VCALENDAR